BEGIN:VCALENDAR
VERSION:2.0
PRODID:-//wp-events-plugin.com//7.2.3.1//EN
TZID:Europe/Stockholm
X-WR-TIMEZONE:Europe/Stockholm
BEGIN:VEVENT
UID:15@qsip.se
DTSTART;TZID=Europe/Stockholm;VALUE=DATE:20250520
DTEND;TZID=Europe/Stockholm;VALUE=DATE:20250523
DTSTAMP:20250423T133709Z
URL:https://qsip.se/calendar/save-the-date-inside-quantum-technology-nordi
 cs-2025/
SUMMARY:Inside Quantum Technology Nordics 2025
DESCRIPTION:Gothenburg will be host for the conference “Inside Quantum Te
 chnology Nordics” in 2025 and QSIP will be the organizing organisation. 
 The conference venue will be Chalmers University of Technology\, and we ho
 pe to see as many of you as possible there during these days in May. In co
 nnection with the conference\, we are planning to arrange a study visit to
  the Quantum Computers at Chalmers NextLabs.\nStay tuned for more informat
 ion!
ATTACH;FMTTYPE=image/jpeg:https://qsip.se/wp-content/uploads/2024/04/Promo
 s_QSIP_IQT_2025.jpg
CATEGORIES:QSIP Event
LOCATION:Chalmers University of Technology\, Chalmersplatsen 4\, Gothenburg
 \, 412 96\, Sweden
X-APPLE-STRUCTURED-LOCATION;VALUE=URI;X-ADDRESS=Chalmersplatsen 4\, Gothenb
 urg\, 412 96\, Sweden;X-APPLE-RADIUS=100;X-TITLE=Chalmers University of Te
 chnology:geo:0,0
END:VEVENT
BEGIN:VTIMEZONE
TZID:Europe/Stockholm
X-LIC-LOCATION:Europe/Stockholm
BEGIN:DAYLIGHT
DTSTART:20250330T030000
TZOFFSETFROM:+0100
TZOFFSETTO:+0200
TZNAME:CEST
END:DAYLIGHT
END:VTIMEZONE
END:VCALENDAR